BEGIN:VCALENDAR
VERSION:2.0
PRODID:-//Svenska 2.4mR Förbundet - ECPv6.3.6//NONSGML v1.0//EN
CALSCALE:GREGORIAN
METHOD:PUBLISH
X-ORIGINAL-URL:https://www.swe24metre.com
X-WR-CALDESC:Events for Svenska 2.4mR Förbundet
REFRESH-INTERVAL;VALUE=DURATION:PT1H
X-Robots-Tag:noindex
X-PUBLISHED-TTL:PT1H
BEGIN:VTIMEZONE
TZID:Europe/Stockholm
BEGIN:DAYLIGHT
TZOFFSETFROM:+0100
TZOFFSETTO:+0200
TZNAME:CEST
DTSTART:20180325T010000
END:DAYLIGHT
BEGIN:STANDARD
TZOFFSETFROM:+0200
TZOFFSETTO:+0100
TZNAME:CET
DTSTART:20181028T010000
END:STANDARD
BEGIN:DAYLIGHT
TZOFFSETFROM:+0100
TZOFFSETTO:+0200
TZNAME:CEST
DTSTART:20190331T010000
END:DAYLIGHT
BEGIN:STANDARD
TZOFFSETFROM:+0200
TZOFFSETTO:+0100
TZNAME:CET
DTSTART:20191027T010000
END:STANDARD
BEGIN:DAYLIGHT
TZOFFSETFROM:+0100
TZOFFSETTO:+0200
TZNAME:CEST
DTSTART:20200329T010000
END:DAYLIGHT
BEGIN:STANDARD
TZOFFSETFROM:+0200
TZOFFSETTO:+0100
TZNAME:CET
DTSTART:20201025T010000
END:STANDARD
BEGIN:DAYLIGHT
TZOFFSETFROM:+0100
TZOFFSETTO:+0200
TZNAME:CEST
DTSTART:20210328T010000
END:DAYLIGHT
BEGIN:STANDARD
TZOFFSETFROM:+0200
TZOFFSETTO:+0100
TZNAME:CET
DTSTART:20211031T010000
END:STANDARD
BEGIN:DAYLIGHT
TZOFFSETFROM:+0100
TZOFFSETTO:+0200
TZNAME:CEST
DTSTART:20220327T010000
END:DAYLIGHT
BEGIN:STANDARD
TZOFFSETFROM:+0200
TZOFFSETTO:+0100
TZNAME:CET
DTSTART:20221030T010000
END:STANDARD
BEGIN:DAYLIGHT
TZOFFSETFROM:+0100
TZOFFSETTO:+0200
TZNAME:CEST
DTSTART:20230326T010000
END:DAYLIGHT
BEGIN:STANDARD
TZOFFSETFROM:+0200
TZOFFSETTO:+0100
TZNAME:CET
DTSTART:20231029T010000
END:STANDARD
BEGIN:DAYLIGHT
TZOFFSETFROM:+0100
TZOFFSETTO:+0200
TZNAME:CEST
DTSTART:20240331T010000
END:DAYLIGHT
BEGIN:STANDARD
TZOFFSETFROM:+0200
TZOFFSETTO:+0100
TZNAME:CET
DTSTART:20241027T010000
END:STANDARD
BEGIN:DAYLIGHT
TZOFFSETFROM:+0100
TZOFFSETTO:+0200
TZNAME:CEST
DTSTART:20250330T010000
END:DAYLIGHT
BEGIN:STANDARD
TZOFFSETFROM:+0200
TZOFFSETTO:+0100
TZNAME:CET
DTSTART:20251026T010000
END:STANDARD
END:VTIMEZONE
BEGIN:VEVENT
DTSTART;VALUE=DATE:20251201
DTEND;VALUE=DATE:20260101
DTSTAMP:20260423T133846
CREATED:20241206T073223Z
LAST-MODIFIED:20241206T073223Z
UID:9226-1764547200-1767225599@www.swe24metre.com
SUMMARY:Frostbite - Marstrand
DESCRIPTION:December – exakt datum ej bestämt
URL:https://www.swe24metre.com/event/frostbite-marstrand
LOCATION:Marstrand\, Hedvigsholmsgatan\, Marstrand\, 442 66\, Sverige
CATEGORIES:Parasegling,Rankingseglingar
END:VEVENT
BEGIN:VEVENT
DTSTART;VALUE=DATE:20251011
DTEND;VALUE=DATE:20251013
DTSTAMP:20260423T133846
CREATED:20241206T073114Z
LAST-MODIFIED:20241206T073114Z
UID:9224-1760140800-1760313599@www.swe24metre.com
SUMMARY:Regatta/Träning - Ljungskile
DESCRIPTION:
URL:https://www.swe24metre.com/event/regatta-traning-ljungskile
LOCATION:Ljungskile\, Ljungskile\, Sverige
CATEGORIES:Parasegling,Rankingseglingar
END:VEVENT
BEGIN:VEVENT
DTSTART;TZID=Europe/Stockholm:20251007T080000
DTEND;TZID=Europe/Stockholm:20251012T170000
DTSTAMP:20260423T133846
CREATED:20250316T094154Z
LAST-MODIFIED:20250316T094154Z
UID:9249-1759824000-1760288400@www.swe24metre.com
SUMMARY:VM Gardasjön - Malcesine\, Italien
DESCRIPTION:
URL:https://www.swe24metre.com/event/vm-gardasjon-malcesine-italien
LOCATION:Malcesine\, Via Gardesana\, 205\, 37018 Malcesine VR\, Malcesine\, Verona\, 37018\, Italien
CATEGORIES:Internationellt,Parasegling
ORGANIZER;CN="FVM":MAILTO:race@fragliavela.org
END:VEVENT
BEGIN:VEVENT
DTSTART;VALUE=DATE:20250920
DTEND;VALUE=DATE:20250922
DTSTAMP:20260423T133846
CREATED:20241206T072734Z
LAST-MODIFIED:20241206T072813Z
UID:9220-1758326400-1758499199@www.swe24metre.com
SUMMARY:SWE Rank 4 - Karlsborg
DESCRIPTION:
URL:https://www.swe24metre.com/event/swe-rank-4-karlsborg
LOCATION:Karlsborg\, Västravarvsgatan 6\, Karlsborg\, 546 32
CATEGORIES:Parasegling,Rankingseglingar
END:VEVENT
BEGIN:VEVENT
DTSTART;VALUE=DATE:20250614
DTEND;VALUE=DATE:20250616
DTSTAMP:20260423T133846
CREATED:20241206T071408Z
LAST-MODIFIED:20241206T072237Z
UID:9208-1749859200-1750031999@www.swe24metre.com
SUMMARY:Regatta/Träningsläger - Viggbyholm
DESCRIPTION:
URL:https://www.swe24metre.com/event/regatta-traningslager-viggbyholm
LOCATION:Vikingarnas på Hundudden\, Hunduddsvägen 55\, Djurgården\, Sverige
CATEGORIES:Parasegling,Rankingseglingar
END:VEVENT
BEGIN:VEVENT
DTSTART;VALUE=DATE:20250524
DTEND;VALUE=DATE:20250526
DTSTAMP:20260423T133846
CREATED:20241206T071250Z
LAST-MODIFIED:20250514T161607Z
UID:9206-1748044800-1748217599@www.swe24metre.com
SUMMARY:NM/NOR Rank 2 SWE Rank 2 Fredrikstad
DESCRIPTION:Länk till anmälan: Klicka här
URL:https://www.swe24metre.com/event/nm-nor-rank-2-swe-rank-2-fredrikstad
LOCATION:Fredrikstad\, Vikaneveien 359\, Gressvik\, Norge\, 1621
CATEGORIES:Norge,Parasegling,Rankingseglingar
END:VEVENT
BEGIN:VEVENT
DTSTART;VALUE=DATE:20250503
DTEND;VALUE=DATE:20250505
DTSTAMP:20260423T133846
CREATED:20241206T072504Z
LAST-MODIFIED:20241206T072504Z
UID:9218-1746230400-1746403199@www.swe24metre.com
SUMMARY:SWE Rank 1 Nor Rank 1 - Ljungskile
DESCRIPTION:
URL:https://www.swe24metre.com/event/swe-rank-1-nor-rank-1-ljungskile
CATEGORIES:Parasegling,Rankingseglingar
END:VEVENT
BEGIN:VEVENT
DTSTART;VALUE=DATE:20250501
DTEND;VALUE=DATE:20250503
DTSTAMP:20260423T133846
CREATED:20241206T070635Z
LAST-MODIFIED:20241206T073315Z
UID:9202-1746057600-1746230399@www.swe24metre.com
SUMMARY:Träningsläger i Ljungskile
DESCRIPTION:
URL:https://www.swe24metre.com/event/traningslager-i-ljungskile
LOCATION:Ljungskile\, Ljungskile\, Sverige
CATEGORIES:Parasegling,Rankingseglingar
END:VEVENT
BEGIN:VEVENT
DTSTART;VALUE=DATE:20190701
DTEND;VALUE=DATE:20190708
DTSTAMP:20260423T133846
CREATED:20190203T135037Z
LAST-MODIFIED:20190203T135421Z
UID:4894-1561939200-1562543999@www.swe24metre.com
SUMMARY:Para World Sailing Championship
DESCRIPTION:
URL:https://www.swe24metre.com/event/para-world-sailing-championship
LOCATION:Cadiz\, Cadiz\, Spanien
CATEGORIES:Parasegling
END:VEVENT
BEGIN:VEVENT
DTSTART;VALUE=DATE:20190527
DTEND;VALUE=DATE:20190602
DTSTAMP:20260423T133846
CREATED:20190204T192741Z
LAST-MODIFIED:20190204T193503Z
UID:4933-1558915200-1559433599@www.swe24metre.com
SUMMARY:EUROSAF European Para Inclusion Sailing Championships 2019
DESCRIPTION:Regattan är öppen för alla seglare. \nNotis of Race
URL:https://www.swe24metre.com/event/eurosaf-european-para-inclusion-sailing-championships-2019
LOCATION:Lake Traunsee\, Gmunden\, Österrike
CATEGORIES:Internationellt,Parasegling
END:VEVENT
BEGIN:VEVENT
DTSTART;VALUE=DATE:20180916
DTEND;VALUE=DATE:20180922
DTSTAMP:20260423T133846
CREATED:20180317T205924Z
LAST-MODIFIED:20180913T174458Z
UID:4454-1537056000-1537574399@www.swe24metre.com
SUMMARY:Parra VM
DESCRIPTION:Inbjudan
URL:https://www.swe24metre.com/event/parra-vm
LOCATION:Sheboygan\, USA\, 214 Pennsylvania Ave\, Sheboygan\, Förenta Staterna\, USA
CATEGORIES:Internationellt,Parasegling
ORGANIZER;CN="Sheboygan Yacht Club":MAILTO:http://www.sheboyganyachtclub.com
END:VEVENT
BEGIN:VEVENT
DTSTART;VALUE=DATE:20180705
DTEND;VALUE=DATE:20180707
DTSTAMP:20260423T133846
CREATED:20180325T172456Z
LAST-MODIFIED:20180326T185324Z
UID:4518-1530748800-1530921599@www.swe24metre.com
SUMMARY:Para NM
DESCRIPTION:Para NM\, dagarna innan regattan arrangeras en tränings clinic \nClinic 5-6 Juli\nRegatta 7-8 Juli
URL:https://www.swe24metre.com/event/para-nm
LOCATION:Saltsjöbaden\, Saltsjöbaden\, Stockholm\, Sverige
CATEGORIES:Parasegling
END:VEVENT
END:VCALENDAR